BEGIN:VCALENDAR
VERSION:2.0
PRODID:-//https://www.webservices.re///NONSGML kigkonsult.se iCalcreator 2.10.15//
METHOD:PUBLISH
BEGIN:VEVENT
UID:20260419T234331CEST-9890wTBDdg@https://www.webservices.re/
DTSTAMP:20260419T214331Z
DESCRIPTION:TARIF: 3€\nTANAMBO ALBANY TRAIL - 2km Course\nDate: Samedi 17 f
 évrier 2024Départ:&nbsp\;08H05Distance:&nbsp\;2km CourseLimité d'âge:&nbsp
 \;Enfant de 6 à 11 ansClôture des inscriptions:&nbsp\;Pas de remise de dos
 sard le jour de la course\n&nbsp\;\n&gt\;&gt\;&gt\; EVENEMENT REPORTE Au S
 amedi 17 Février 2024 &lt\;&lt\;&lt\;\n&nbsp\;\nRÈGLEMENT DE L'ÉPREUVE\n
 Art.1&nbsp\;: La courseLe Tanambo Albany Trail est une course organisée pa
 r l’association des parents d’élèves et des enseignants de l’école Jean Al
 bany\, l’APEEJA.Cette course a pour but de mettre en avant le quartier de 
 Terre Sainte\, de développer la conscience citoyenne des élèves.Elle est a
 utorisée aux enfants à partir de 6 ans.\nArt.2&nbsp\;: La remise des dossa
 rdsElle aura lieu au sein de l’école Jean Albany 1 chemin du Gouffre 97410
  St Pierre les jeudi 12 et&nbsp\; vendredi 13 octobre 2023.\nArt.3&nbsp\;:
  Limite des inscriptionsLe nombre de coureurs est limité à 300.La date lim
 ite d’inscription est fixée le 2 octobre 2023.Les coureurs fourniront un c
 ertificat médical «&nbsp\;apte à la course sur route en compétition&nbsp\;
 » au moment de l’inscription.\nArt.4&nbsp\;: Prix des courses et limites d
 ’âge.Le prix des courses est fixé de la manière suivante&nbsp\;:2km&nbsp\;
 : 3 euros5km course et 5 km marche&nbsp\;: 8 euros10 km&nbsp\;: 13 euros\n
 Les limites d’âge pour les différentes courses sont fixées de la manière s
 uivante&nbsp\;:\n2Km&nbsp\;: enfant de 6 à 11 ans5km marche et 5 km course
 &nbsp\;: à partir de 12 ans.10km&nbsp\;: à partir de 18 ans.\nArt.5&nbsp\;
 : horaires de départ des coursescourse 10 km&nbsp\;: 8h00course 2 kms&nbsp
 \;: &nbsp\;8h05course 5 kms&nbsp\;: départ 8h07marche 5 kms&nbsp\;: départ
  8h08\nArt.6&nbsp\;: Code de la route\, respect des propriétés privées\, e
 t propretéLes concurrents doivent respecter le balisage et les consignes d
 es organisateurs. Les concurrents s’engagent également à ne rien jeter et 
 à respecter les propriétés privées\, ainsi que la végétation. En cas de fl
 agrant délit de nuisance\, la sanction encourue sera la disqualification. 
 De manière plus générale l’ensemble du parcours doit rester propre.\nArt.7
 &nbsp\;: SécuritéLes organisateurs de la course se réservent le droit de m
 odifier ou d’annuler tout ou partie de l’épreuve pour des raisons de sécur
 ité. Des signaleurs seront présents à chaque traversée de route ou d’inter
 section. L’organisation décline toute responsabilité en cas de défaillance
  physique\, accidents causés par le non-respect du code de la route\, pert
 e ou vol d’objets personnels.\nArt.8 : RavitaillementUn point de ravitaill
 ement type marathon est prévu au PK5 au niveau de l’école maternelle Alice
  Péverelly (rivière d’abord).\nArt.9&nbsp\;: AbandonLes abandons doivent ê
 tre communiqués immédiatement aux signaleurs les plus proches. Ces dernier
 s appelleront les organisateurs qui invalideront les dossards.En cas de bl
 essure\, le signaleur le plus proche donnera l’alerte.Rappel des numéros d
 e téléphone&nbsp\;: 06 92 63 70 54 // 02 62 25 02 03\nArt.10&nbsp\;: Disqu
 alificationDes pointeurs seront présents sur le parcours afin de noter les
  numéros des dossards et s’assurer que chaque compétiteur effectue l’ensem
 ble du parcours comme indiqué sur les plans (10 km ou 5 km).Les arrivées s
 eront donc contrôlées grâce aux feuilles de pointage.En cas de tricherie\,
  le compétiteur sera disqualifié.\nArt.11&nbsp\;: AssurancesResponsabilité
  Civile&nbsp\;:Les organisateurs sont couverts par une police souscrite au
 près de la MAIF. Les licenciés bénéficient des garanties accordées par l’a
 ssurance liée à leur licence. Il incombe aux autres participants de s’assu
 rer personnellement.\nL’association souscrit pour la durée de la manifesta
 tion une assurance de responsabilité civile à l’égard des tiers et des con
 currents\, ce qui implique que les dommages subis par ces derniers soient 
 générés par une faute de l’organisateur.\nDommage Matériel&nbsp\;:L’organi
 sateur décline toute responsabilité en cas de vol\, bris ou perte des bien
 s personnels des participants pendant la course. Il incombe en conséquence
  à chaque participant\, s’il estime nécessaire\, de souscrire une assuranc
 e des objets tels que caméra embarquée\, paire de lunettes etc…\nLa respon
 sabilité de l’organisation est dégagée dès abandon\, disqualification pour
  pointage tardif\, par décision médicale ou autre décision de l’organisati
 on.\nArt.12&nbsp\;: Assistante MédicaleUne équipe médicale multidisciplina
 ire\, mise en place par l’organisation sera présente sur le site de l’écol
 e pendant toute la durée de l’épreuve.\nArt.13&nbsp\;: Barrières horairesI
 l est établi un temps limite de 2h pour la course du 10 km et du 5 km.\nAr
 t.14&nbsp\;: Récompenses&nbsp\;2KM&nbsp\;: 1ère à 3ème fille / 1er à 3ème 
 garçon5KM COURSE&nbsp\;: 1ère à 3ème femme scratch&nbsp\;/ 1er à 3ème homm
 e scratch10KM&nbsp\;: 1ère à 3ème femme scratch / 1er à 3ème homme scratch
 \nArt.15&nbsp\;: Annulation\, remboursementAucun remboursement ne pourra ê
 tre effectué pour annulation quel qu’en soit le motif après la clôture des
  inscriptions.En cas d’annulation de la course pour des raisons d’intempér
 ies exceptionnelles\, et/ou de force majeure\, le montant de l’inscription
  restera acquis à l’association. En s’inscrivant\, le compétiteur accepte 
 sans réserve le règlement de cette course et les conditions imposées par c
 elui-ci.\n\n&nbsp\;\n https://www.webservices.re/index.php/categories/even
 ement/547-tanambo-albany-trail-2km
DTSTART;VALUE=DATE:20240217
LOCATION:Ecole Jean Albany à St Pierre (11 Chem. du Gouffre\, Saint-Pierre 
 97410)
SUMMARY:Tanambo Albany Trail - 2km
URL:https://www.webservices.re/index.php/categories/evenement/547-tanambo-a
 lbany-trail-2km
END:VEVENT
END:VCALENDAR
