BEGIN:VCALENDAR
VERSION:2.0
PRODID:-//https://www.webservices.re///NONSGML kigkonsult.se iCalcreator 2.10.15//
METHOD:PUBLISH
BEGIN:VEVENT
UID:20260419T214008CEST-5159bv9xem@https://www.webservices.re/
DTSTAMP:20260419T194008Z
DESCRIPTION:TARIF: 8€\nTANAMBO ALBANY TRAIL - 5km Course\nDate: Samedi 17 f
 évrier 2024Départ:&nbsp\;08H07Distance:&nbsp\;5km CourseLimité d'âge:&nbsp
 \;à partir de 12 ansClôture des inscriptions:&nbsp\;Pas de remise de dossa
 rd le jour de la course\n&nbsp\;\n&gt\;&gt\;&gt\; EVENEMENT REPORTE Au sam
 edi 17 février 2024 &lt\;&lt\;&lt\;\n&nbsp\;\nRÈGLEMENT DE L'ÉPREUVE\nAr
 t.1&nbsp\;: La courseLe Tanambo Albany Trail est une course organisée par 
 l’association des parents d’élèves et des enseignants de l’école Jean Alba
 ny\, l’APEEJA.Cette course a pour but de mettre en avant le quartier de Te
 rre Sainte\, de développer la conscience citoyenne des élèves.Elle est aut
 orisée aux enfants à partir de 6 ans.\nArt.2&nbsp\;: La remise des dossard
 sElle aura lieu au sein de l’école Jean Albany 1 chemin du Gouffre 97410 S
 t Pierre les jeudi 12 et&nbsp\; vendredi 13 octobre 2023.\nArt.3&nbsp\;: L
 imite des inscriptionsLe nombre de coureurs est limité à 300.La date limit
 e d’inscription est fixée le 2 octobre 2023.Les coureurs fourniront un cer
 tificat médical «&nbsp\;apte à la course sur route en compétition&nbsp\;» 
 au moment de l’inscription.\nArt.4&nbsp\;: Prix des courses et limites d’â
 ge.Le prix des courses est fixé de la manière suivante&nbsp\;:2km&nbsp\;: 
 3 euros5km course et 5 km marche&nbsp\;: 8 euros10 km&nbsp\;: 13 euros\nLe
 s limites d’âge pour les différentes courses sont fixées de la manière sui
 vante&nbsp\;:\n2Km&nbsp\;: enfant de 6 à 11 ans5km marche et 5 km course&n
 bsp\;: à partir de 12 ans.10km&nbsp\;: à partir de 18 ans.\nArt.5&nbsp\;: 
 horaires de départ des coursescourse 10 km&nbsp\;: 8h00course 2 kms&nbsp\;
 : &nbsp\;8h05course 5 kms&nbsp\;: départ 8h07marche 5 kms&nbsp\;: départ 8
 h08\nArt.6&nbsp\;: Code de la route\, respect des propriétés privées\, et 
 propretéLes concurrents doivent respecter le balisage et les consignes des
  organisateurs. Les concurrents s’engagent également à ne rien jeter et à 
 respecter les propriétés privées\, ainsi que la végétation. En cas de flag
 rant délit de nuisance\, la sanction encourue sera la disqualification. De
  manière plus générale l’ensemble du parcours doit rester propre.\nArt.7&n
 bsp\;: SécuritéLes organisateurs de la course se réservent le droit de mod
 ifier ou d’annuler tout ou partie de l’épreuve pour des raisons de sécurit
 é. Des signaleurs seront présents à chaque traversée de route ou d’interse
 ction. L’organisation décline toute responsabilité en cas de défaillance p
 hysique\, accidents causés par le non-respect du code de la route\, perte 
 ou vol d’objets personnels.\nArt.8 : RavitaillementUn point de ravitaillem
 ent type marathon est prévu au PK5 au niveau de l’école maternelle Alice P
 éverelly (rivière d’abord).\nArt.9&nbsp\;: AbandonLes abandons doivent êtr
 e communiqués immédiatement aux signaleurs les plus proches. Ces derniers 
 appelleront les organisateurs qui invalideront les dossards.En cas de bles
 sure\, le signaleur le plus proche donnera l’alerte.Rappel des numéros de 
 téléphone&nbsp\;: 06 92 63 70 54 // 02 62 25 02 03\nArt.10&nbsp\;: Disqual
 ificationDes pointeurs seront présents sur le parcours afin de noter les n
 uméros des dossards et s’assurer que chaque compétiteur effectue l’ensembl
 e du parcours comme indiqué sur les plans (10 km ou 5 km).Les arrivées ser
 ont donc contrôlées grâce aux feuilles de pointage.En cas de tricherie\, l
 e compétiteur sera disqualifié.\nArt.11&nbsp\;: AssurancesResponsabilité C
 ivile&nbsp\;:Les organisateurs sont couverts par une police souscrite aupr
 ès de la MAIF. Les licenciés bénéficient des garanties accordées par l’ass
 urance liée à leur licence. Il incombe aux autres participants de s’assure
 r personnellement.\nL’association souscrit pour la durée de la manifestati
 on une assurance de responsabilité civile à l’égard des tiers et des concu
 rrents\, ce qui implique que les dommages subis par ces derniers soient gé
 nérés par une faute de l’organisateur.\nDommage Matériel&nbsp\;:L’organisa
 teur décline toute responsabilité en cas de vol\, bris ou perte des biens 
 personnels des participants pendant la course. Il incombe en conséquence à
  chaque participant\, s’il estime nécessaire\, de souscrire une assurance 
 des objets tels que caméra embarquée\, paire de lunettes etc…\nLa responsa
 bilité de l’organisation est dégagée dès abandon\, disqualification pour p
 ointage tardif\, par décision médicale ou autre décision de l’organisation
 .\nArt.12&nbsp\;: Assistante MédicaleUne équipe médicale multidisciplinair
 e\, mise en place par l’organisation sera présente sur le site de l’école 
 pendant toute la durée de l’épreuve.\nArt.13&nbsp\;: Barrières horairesIl 
 est établi un temps limite de 2h pour la course du 10 km et du 5 km.\nArt.
 14&nbsp\;: Récompenses&nbsp\;2KM&nbsp\;: 1ère à 3ème fille / 1er à 3ème ga
 rçon5KM COURSE&nbsp\;: 1ère à 3ème femme scratch&nbsp\;/ 1er à 3ème homme 
 scratch10KM&nbsp\;: 1ère à 3ème femme scratch / 1er à 3ème homme scratch\n
 Art.15&nbsp\;: Annulation\, remboursementAucun remboursement ne pourra êtr
 e effectué pour annulation quel qu’en soit le motif après la clôture des i
 nscriptions.En cas d’annulation de la course pour des raisons d’intempérie
 s exceptionnelles\, et/ou de force majeure\, le montant de l’inscription r
 estera acquis à l’association. En s’inscrivant\, le compétiteur accepte sa
 ns réserve le règlement de cette course et les conditions imposées par cel
 ui-ci.\n\n&nbsp\;\n https://www.webservices.re/index.php/categories/evenem
 ent/549-tanambo-albany-trail-5km-course
DTSTART;VALUE=DATE:20240217
LOCATION:Ecole Jean Albany à St Pierre (11 Chem. du Gouffre\, Saint-Pierre 
 97410)
SUMMARY:Tanambo Albany Trail - 5km Course
URL:https://www.webservices.re/index.php/categories/evenement/549-tanambo-a
 lbany-trail-5km-course
END:VEVENT
END:VCALENDAR
