BEGIN:VCALENDAR
VERSION:2.0
PRODID:-//https://www.webservices.re///NONSGML kigkonsult.se iCalcreator 2.10.15//
METHOD:PUBLISH
BEGIN:VEVENT
UID:20260419T194758CEST-6626Z7lBpO@https://www.webservices.re/
DTSTAMP:20260419T174758Z
DESCRIPTION:TARIF: 13€\nTANAMBO ALBANY TRAIL - 10km Course\nDate: Samedi 17
  février 2024Départ:&nbsp\;08H00Distance:&nbsp\;10km CourseLimité d'âge:&n
 bsp\;à partir de 18 ansClôture des inscriptions:&nbsp\;Pas de remise de do
 ssard le jour de la course\n&gt\;&gt\;&gt\; EVENEMENT REPORTE Au samedi 17
  février 2024 &lt\;&lt\;&lt\;\n&nbsp\;\nRÈGLEMENT DE L'ÉPREUVE\nArt.1&nb
 sp\;: La courseLe Tanambo Albany Trail est une course organisée par l’asso
 ciation des parents d’élèves et des enseignants de l’école Jean Albany\, l
 ’APEEJA.Cette course a pour but de mettre en avant le quartier de Terre Sa
 inte\, de développer la conscience citoyenne des élèves.Elle est autorisée
  aux enfants à partir de 6 ans.\nArt.2&nbsp\;: La remise des dossardsElle 
 aura lieu au sein de l’école Jean Albany 1 chemin du Gouffre 97410 St Pier
 re les jeudi 12 et&nbsp\; vendredi 13 octobre 2023.\nArt.3&nbsp\;: Limite 
 des inscriptionsLe nombre de coureurs est limité à 300.La date limite d’in
 scription est fixée le 2 octobre 2023.Les coureurs fourniront un certifica
 t médical «&nbsp\;apte à la course sur route en compétition&nbsp\;» au mom
 ent de l’inscription.\nArt.4&nbsp\;: Prix des courses et limites d’âge.Le 
 prix des courses est fixé de la manière suivante&nbsp\;:2km&nbsp\;: 3 euro
 s5km course et 5 km marche&nbsp\;: 8 euros10 km&nbsp\;: 13 euros\nLes limi
 tes d’âge pour les différentes courses sont fixées de la manière suivante&
 nbsp\;:\n2Km&nbsp\;: enfant de 6 à 11 ans5km marche et 5 km course&nbsp\;:
  à partir de 12 ans.10km&nbsp\;: à partir de 18 ans.\nArt.5&nbsp\;: horair
 es de départ des coursescourse 10 km&nbsp\;: 8h00course 2 kms&nbsp\;: &nbs
 p\;8h05course 5 kms&nbsp\;: départ 8h07marche 5 kms&nbsp\;: départ 8h08\nA
 rt.6&nbsp\;: Code de la route\, respect des propriétés privées\, et propre
 téLes concurrents doivent respecter le balisage et les consignes des organ
 isateurs. Les concurrents s’engagent également à ne rien jeter et à respec
 ter les propriétés privées\, ainsi que la végétation. En cas de flagrant d
 élit de nuisance\, la sanction encourue sera la disqualification. De maniè
 re plus générale l’ensemble du parcours doit rester propre.\nArt.7&nbsp\;:
  SécuritéLes organisateurs de la course se réservent le droit de modifier 
 ou d’annuler tout ou partie de l’épreuve pour des raisons de sécurité. Des
  signaleurs seront présents à chaque traversée de route ou d’intersection.
  L’organisation décline toute responsabilité en cas de défaillance physiqu
 e\, accidents causés par le non-respect du code de la route\, perte ou vol
  d’objets personnels.\nArt.8 : RavitaillementUn point de ravitaillement ty
 pe marathon est prévu au PK5 au niveau de l’école maternelle Alice Péverel
 ly (rivière d’abord).\nArt.9&nbsp\;: AbandonLes abandons doivent être comm
 uniqués immédiatement aux signaleurs les plus proches. Ces derniers appell
 eront les organisateurs qui invalideront les dossards.En cas de blessure\,
  le signaleur le plus proche donnera l’alerte.Rappel des numéros de téléph
 one&nbsp\;: 06 92 63 70 54 // 02 62 25 02 03\nArt.10&nbsp\;: Disqualificat
 ionDes pointeurs seront présents sur le parcours afin de noter les numéros
  des dossards et s’assurer que chaque compétiteur effectue l’ensemble du p
 arcours comme indiqué sur les plans (10 km ou 5 km).Les arrivées seront do
 nc contrôlées grâce aux feuilles de pointage.En cas de tricherie\, le comp
 étiteur sera disqualifié.\nArt.11&nbsp\;: AssurancesResponsabilité Civile&
 nbsp\;:Les organisateurs sont couverts par une police souscrite auprès de 
 la MAIF. Les licenciés bénéficient des garanties accordées par l’assurance
  liée à leur licence. Il incombe aux autres participants de s’assurer pers
 onnellement.\nL’association souscrit pour la durée de la manifestation une
  assurance de responsabilité civile à l’égard des tiers et des concurrents
 \, ce qui implique que les dommages subis par ces derniers soient générés 
 par une faute de l’organisateur.\nDommage Matériel&nbsp\;:L’organisateur d
 écline toute responsabilité en cas de vol\, bris ou perte des biens person
 nels des participants pendant la course. Il incombe en conséquence à chaqu
 e participant\, s’il estime nécessaire\, de souscrire une assurance des ob
 jets tels que caméra embarquée\, paire de lunettes etc…\nLa responsabilité
  de l’organisation est dégagée dès abandon\, disqualification pour pointag
 e tardif\, par décision médicale ou autre décision de l’organisation.\nArt
 .12&nbsp\;: Assistante MédicaleUne équipe médicale multidisciplinaire\, mi
 se en place par l’organisation sera présente sur le site de l’école pendan
 t toute la durée de l’épreuve.\nArt.13&nbsp\;: Barrières horairesIl est ét
 abli un temps limite de 2h pour la course du 10 km et du 5 km.\nArt.14&nbs
 p\;: Récompenses&nbsp\;2KM&nbsp\;: 1ère à 3ème fille / 1er à 3ème garçon5K
 M COURSE&nbsp\;: 1ère à 3ème femme scratch&nbsp\;/ 1er à 3ème homme scratc
 h10KM&nbsp\;: 1ère à 3ème femme scratch / 1er à 3ème homme scratch\nArt.15
 &nbsp\;: Annulation\, remboursementAucun remboursement ne pourra être effe
 ctué pour annulation quel qu’en soit le motif après la clôture des inscrip
 tions.En cas d’annulation de la course pour des raisons d’intempéries exce
 ptionnelles\, et/ou de force majeure\, le montant de l’inscription restera
  acquis à l’association. En s’inscrivant\, le compétiteur accepte sans rés
 erve le règlement de cette course et les conditions imposées par celui-ci.
 \n\n&nbsp\;\n https://www.webservices.re/index.php/categories/evenement/55
 0-tanambo-albany-trail-10km
DTSTART;VALUE=DATE:20240217
LOCATION:Ecole Jean Albany à St Pierre (11 Chem. du Gouffre\, Saint-Pierre 
 97410)
SUMMARY:Tanambo Albany Trail - 10km
URL:https://www.webservices.re/index.php/categories/evenement/550-tanambo-a
 lbany-trail-10km
END:VEVENT
END:VCALENDAR
