BEGIN:VCALENDAR
VERSION:2.0
PRODID:-//https://www.webservices.re///NONSGML kigkonsult.se iCalcreator 2.10.15//
METHOD:PUBLISH
BEGIN:VEVENT
UID:20260419T174600CEST-91517rjfFx@https://www.webservices.re/
DTSTAMP:20260419T154600Z
DESCRIPTION:TARIF: 90€ pour l'équipe\nLA BOUCLE INFERNALE 2026 – 4ᵉ ÉDITION
 \nAdultes &amp\; Courses Marmay – by Ouest Trail Réunion\n🔥 Prêts à défier
  vos limites ?\nEn 2026\, la Boucle Infernale revient pour une 4ᵉ édition 
 encore plus intense\, plus stratégique et toujours aussi addictive ! Ce fo
 rmat Last Man Standing – le fameux « Dernier Homme Debout » – vous attend 
 dans la savane du Moulin Kader à Saint-Paul pour un défi d’endurance uniqu
 e : tenir\, encore tenir… et surtout revenir sur la ligne chaque heure pou
 r repartir !\nOrganisée par Ouest Trail Réunion\, sous l’égide de la Ligue
  Réunionnaise d’Athlétisme et en partenariat avec la Commune de Saint-Paul
 \, l’épreuve se déroulera les 25 et 26 avril 2026\, au départ du stade Mau
 rice Bluker.\n\n🌀&nbsp\;Le concept : simple… mais infernal !\n✔️ Une boucl
 e de 6 km et 165 m D+.\n✔️ Un départ toutes les heures.\n✔️ Une seule règl
 e : terminer la boucle dans l’heure.\n✔️ Si tu arrives avant\, tu récupère
 s… et tu attends la cloche du prochain round.\n✔️ L’objectif : enchaîner u
 n maximum de tours jusqu’à ce qu’il n’en reste qu’un !\nUn défi mental\, p
 hysique\, stratégique… et terriblement addictif.\n\n🔥&nbsp\;Les 3 formules
  2026\n&nbsp\;\n🏃‍♂️ Formule Individuelle\n33 heures maximum\, 33 tours po
 ssibles :\n➡️ 198 km &amp\; 5 500 m D+ pour les plus résistants.\nPossibil
 ité de créer une équipe d’individuels (3 coureurs) pour un classement spéc
 ial.\n&nbsp\;\n🔁 Formule Relais&nbsp\;(équipes de 3 coureurs)\nLes passage
 s de relai ne peuvent se faire qu’aux multiples de 5 tours jamais entre ch
 aque.\n➡️ Jusqu’à 31 heures\, 186 km et 5 100 m D+.\nLe dernier tour (31ᵉ)
  se fait tous ensemble\, les trois membres du relais.\n&nbsp\;\n👦👧 Formule
  Marmay – Courses jeunes\nDes parcours adaptés par catégories\, du 740 m a
 ux 6 km\, avec ou sans chronométrage selon l’âge.\nLes jeunes traileurs au
 ssi auront leur moment de gloire sur « La Boucle des Ti’Traileurs » !\n\n🌄
 &nbsp\;Un terrain mythique : la savane du Moulin Kader\nUn parcours revisi
 té pour 2026 :\n✔️ empreinte 100% nature\n✔️ passages fluidifiés\n✔️ zones
  techniques allégées\nLe tracé complet est disponible sur topchrono.run.\n
 \n⏱️&nbsp\;Départs &amp\; horaires clés\n\n\n1er départ : samedi 25 avril 
 à 7h00\n\n\nDerniers départs :\n• Individuel : dimanche 15h00\n• Relais : 
 dimanche 13h00\n\n\nCourses Marmay : de 9h à 11h30 selon les catégories\n
 \n\n\n📅&nbsp\;Programme\nMercredi 22 avril – Remise des dossards au magasi
 n RUN GREEN (Saint-Gilles).\nSamedi 25 avril – Accueil dès 5h00\, installa
 tion\, briefing 6h45… puis top départ à 7h !\n\n💥 Pourquoi s’inscrire ?\n
 \n\nPour vivre un challenge hors norme où tout se joue au mental.\n\n\nPou
 r tester vos limites… à chaque heure.\n\n\nPour une ambiance incroyable : 
 la cloche\, le compte à rebours\, la savane au lever du soleil.\n\n\nPour 
 une expérience sportive dont on ressort changé.\n\n&nbsp\;LE REGLEMENT:\n
 \n\n\n&nbsp\; https://www.webservices.re/index.php/categories/evenement/80
 7-la-boucle-infernale-relais
DTSTART:20260425T030000Z
DTEND:20260426T120000Z
LOCATION:Golf bassin bleu (75 Rue du Golf\, Saint-Paul 97435\, La Réunion)
SUMMARY:La Boucle Infernale - Relais
URL:https://www.webservices.re/index.php/categories/evenement/807-la-boucle
 -infernale-relais
END:VEVENT
END:VCALENDAR
