BEGIN:VCALENDAR
VERSION:2.0
PRODID:-//https://www.webservices.re///NONSGML kigkonsult.se iCalcreator 2.10.15//
METHOD:PUBLISH
BEGIN:VEVENT
UID:20260419T175113CEST-5055stlHCS@https://www.webservices.re/
DTSTAMP:20260419T155113Z
DESCRIPTION:TARIF: 25€\n🏔️ LA MONTÉE DES MAKES – SoVeto\nLa Montée des Make
 s – SoVeto est une épreuve sportive exigeante et spectaculaire reliant Sai
 nt-Louis à la mythique Fenêtre des Makes\, au cœur des hauts de La Réunion
 .\nUn défi taillé pour les passionnés de course à pied et de vélo\, sur un
  parcours long\, régulier et engagé\, mêlant routes urbaines\, chemins et 
 route forestière.\n\n📍 Parcours\n\n\nDistance : 25 km\n\n\nDénivelé positi
 f : 1 600 m D+\n\n\nItinéraire :\nDépart décalé Course à pied et Vélo à 7h
 00 – Mairie de Saint-Louis\nAvenue du Docteur R. Vergès → à droite rue du 
 Général de Gaulle → à gauche chemin Maison Rouge → à gauche rue Hubert Del
 isle → à droite rue du Bon Accueil → à gauche rue Mont Plaisir → à gauche 
 route forestière des Makes.\nArrivée : Fenêtre des Makes\n\n🚴‍♂️🏃‍♂️ Forma
 ts de participation\n\n\nVélo individuel\n\n\nCourse à pied individuelle\n
 \n\nRelais 2 coureurs à pied&nbsp\;\n\n\n👉 Le passage de relais s’effectue
 ra à mi-course\, dans une zone obligatoire.\nLes coureurs se transmettront
  le dossard de l’équipe.\n\n🛡️ Sécurité\n\n\nCasque obligatoire\n\n\nRespe
 ct strict du code de la route\n\n\nParcours entièrement fléché&nbsp\;\n\n
 \nAfin de limiter les véhicules sur l’itinéraire :\n\n\nLes cyclistes rede
 scendront en vélo jusqu’à Saint-Louis\n\n\nLes coureurs à pied redescendro
 nt grâce aux bus mis à disposition\n\n\n\n💧 Ravitaillements\n\n\nPositionn
 és côté droit de la route\n\n\nAux 10ᵉ km\, au village des Makes et à l’ar
 rivée\n\n\n\n📝 Inscriptions\n\n\n25 €\n\n\n+ 20 € pour le T-Shirt Collecto
 r&nbsp\;\n\n\n👥 Catégorie : à partir de 15 ans\n\n🎽 Remise des dossards\n
 \n\nSamedi 9 mai\n\n\nLOISIBIKE – Saint-Leu\n\n\n\n🏅 Récompenses\n\n\nMéda
 ille FINISHER\n\n\nSandwich à l’arrivée\n\n\nPrimes de course&nbsp\;\n\n\n
 🏆 Récompenses pour les 3 premiers en vélo et en course à pied dans les cat
 égories :\n\n\nScratch\n\n\n15 à 16 ans → nés en 2010 et 2011\n\n\n17 à 18
  ans → nés en 2008 et 2009\n\n\n19 à 29 ans → nés de 1997 à 2007\n\n\n30 à
  39 ans → nés de 1987 à 1996\n\n\n40 à 49 ans → nés de 1977 à 1986\n\n\n50
  ans et plus → nés en 1976 et avant\n\n\nVAE: Vélo Assistance Electrique\n
 \n\n🏆 Équipe course à pied : trophée + médailles\n\n📜 Règlement\n\n\nÉpreu
 ve conforme au règlement FFH\n\n https://www.webservices.re/index.php/cate
 gories/evenement/824-la-montee-des-makes-soveto-course-a-pied-en-relais
DTSTART;VALUE=DATE:20260514
LOCATION:la montée des Makes SOVETO (12 Rue de la Poudriere\, Saint-Louis 9
 7450\, La Réunion)
SUMMARY:La montee des Makes Soveto - (Course a Pied en relais)
URL:https://www.webservices.re/index.php/categories/evenement/824-la-montee
 -des-makes-soveto-course-a-pied-en-relais
END:VEVENT
END:VCALENDAR
