BEGIN:VCALENDAR
VERSION:2.0
PRODID:-//https://www.webservices.re///NONSGML kigkonsult.se iCalcreator 2.10.15//
METHOD:PUBLISH
BEGIN:VEVENT
UID:20260419T175855CEST-2289Ko0Bfv@https://www.webservices.re/
DTSTAMP:20260419T155855Z
DESCRIPTION:TARIF: 65€\nTrail FAH’ÂME – 13 juin 2026\nCourse Qualificative 
 pour le GRAND RAID !\nSaint-Louis • Étang-Salé • Île de La Réunion\nLa TEA
 M LA RIVIÈRE (TLR) organise le samedi 13 juin 2026 une épreuve d’exception
  au cœur des sentiers du Sud de l’île : le Trail FAH’ÂME\, un défi de mont
 agne exigeant d’environ 55 km pour 3900 m de dénivelé positif.\nUne course
  intense\, technique et engagée\, à la découverte des paysages spectaculai
 res de Saint-Louis\, des Makes et du Tapage\, en traversant une partie du 
 cœur du Parc national de La Réunion\, inscrit au Patrimoine mondial de l’U
 NESCO.\n\nLe parcours\nLe départ sera donné à 4h00 depuis le Complexe Spor
 tif de Roches-Maigres (21 rue Leconte de Lisle – 97450 Saint-Louis).\nLes 
 coureurs rejoindront successivement :\n\n\nLe village de Pièce Jeanne à Be
 llevue\n\n\nLe secteur des Makes via le sentier Malbar Mort\, l’aire de pi
 que-nique des Platanes\, le sentier de la 11ème\, le sentier du Milieu Cam
 p 2000\, la Fenêtre\, Contrefort\, Bras Patates et Piton Cabris\n\n\nLe St
 ade Richman Sophie\n\n\nL’aire de pique-nique de Mont Plaisir\n\n\nLe Tapa
 ge\n\n\nL’arrivée sera jugée au Parc de la Rivière Saint-Louis (ancienne b
 ibliothèque).\nUn tracé exigeant\, technique et sauvage\, alternant longue
 s ascensions\, sentiers forestiers et descentes engagées.\n\nBarrières hor
 aires\nUn temps limite de 16 heures est fixé pour l’épreuve.\nDes barrière
 s horaires seront appliquées :\n\n\nKm 21 – Stade Richman Sophie (Les Make
 s) : 9h30\n\n\nKm 37 – Aire de pique-nique Mont Plaisir : 14h30\n\n\nKm 47
  – École Auguste Lacaussade (Tapage) : 18h00\n\n\nTout concurrent hors dél
 ai sera mis hors course pour des raisons de sécurité.\n\nEngagement enviro
 nnemental\nLe Trail FAH’ÂME traverse une zone protégée du Parc national.\n
 Le respect du site est une priorité absolue.&nbsp\;\nTout abandon de déche
 ts (gels\, emballages\, bouteilles\, etc.) entraînera une disqualification
  immédiate.\nUne équipe de serre-file veillera au maintien de la propreté 
 des sentiers après le passage des coureurs.\n\nInscriptions &amp\; dossard
 s\n\n\nDate limite d’inscription : 6 juin 2026\n\n\nRemise des dossards :
 \n\n\nMercredi 10 juin 2026 de 13h30 à 18h00\nTrail Sport – 20 Rue Luc Lor
 ion\, Saint-Pierre\n\n\nJeudi 11 juin 2026 de 13h30 à 18h00\nTrail Sport –
  22 Rue Michel Ha Sam\, Saint-Denis\n\n\n\nLe Trail FAH’ÂME s’adresse aux 
 coureurs préparés\, en quête d’un véritable défi montagnard\, dans un envi
 ronnement naturel exceptionnel.\nPrêt à relever le défi ?\n\n&nbsp\;REGLEM
 ENT:\n https://www.webservices.re/index.php/categories/evenement/848-trail
 -fah-âme-55km-tlr
DTSTART;VALUE=DATE:20260613
LOCATION:Parc de la Rivière Saint Louis (Parc de La Rivière\, La Riviere\, 
 97450\, La Réunion)
SUMMARY:Trail Fah'Âme 55km - TLR
URL:https://www.webservices.re/index.php/categories/evenement/848-trail-fah
 -âme-55km-tlr
END:VEVENT
END:VCALENDAR
