BEGIN:VCALENDAR
VERSION:2.0
PRODID:-//https://www.webservices.re///NONSGML kigkonsult.se iCalcreator 2.10.15//
METHOD:PUBLISH
BEGIN:VEVENT
UID:20260419T180612CEST-4442wX3n3s@https://www.webservices.re/
DTSTAMP:20260419T160612Z
DESCRIPTION:TARIF: 18€\n3ème manche\nDate: Dimanche 22 septembre 2024Départ
  / Arrivée:&nbsp\;L'Etang Salé les BainsCatégorie d'age:&nbsp\;U7/U9/U11/U
 13/U15/U17Clôture des inscriptions:&nbsp\;Vendredi 20 septembre 2024 à 12H
 00\nVenez assister à la troisième manche du Trophée Régional des Jeunes Vé
 tétistes (TRJV) de la Réunion 2024 ! Au programme\, trois disciplines palp
 itantes : le X Country\, le Trial\, et le XC Contre la Montre. Le Plateau 
 Sportif de l’Étang-Salé-les-Bains sera le théâtre de cette journée intense
  dédiée aux jeunes talents du VTT. De 7h à 17h\, ne manquez pas cette comp
 étition qui promet adrénaline\, technicité et esprit de compétition.\n\n\n
 &nbsp\;\n\n\n\nRÈGLEMENT DE L'ÉPREUVE\n\n\n&nbsp\;RAPPEL DES EQUIPEMENTS
 \n https://www.webservices.re/index.php/events/evenement/652-trjv-m3-vttl
DTSTART;VALUE=DATE:20240922
LOCATION:L'Etang Salé (Chemin du Zoo\, l'Étang-Salé les Bains\, Réunion)
SUMMARY:TRJV - M3 - VTTL
URL:https://www.webservices.re/index.php/events/evenement/652-trjv-m3-vttl
END:VEVENT
END:VCALENDAR
